BEGIN:VCALENDAR
VERSION:2.0
PRODID:-//PARITÄTISCHE Selbsthilfekontaktstelle Halle-Saalekreis - ECPv6.2.5//NONSGML v1.0//EN
CALSCALE:GREGORIAN
METHOD:PUBLISH
X-WR-CALNAME:PARITÄTISCHE Selbsthilfekontaktstelle Halle-Saalekreis
X-ORIGINAL-URL:https://www.kontaktstelle-shg.de
X-WR-CALDESC:Veranstaltungen für PARITÄTISCHE Selbsthilfekontaktstelle Halle-Saalekreis
REFRESH-INTERVAL;VALUE=DURATION:PT1H
X-Robots-Tag:noindex
X-PUBLISHED-TTL:PT1H
BEGIN:VTIMEZONE
TZID:Europe/Berlin
BEGIN:DAYLIGHT
TZOFFSETFROM:+0100
TZOFFSETTO:+0200
TZNAME:CEST
DTSTART:20260329T010000
END:DAYLIGHT
BEGIN:STANDARD
TZOFFSETFROM:+0200
TZOFFSETTO:+0100
TZNAME:CET
DTSTART:20261025T010000
END:STANDARD
END:VTIMEZONE
BEGIN:VEVENT
DTSTART;TZID=Europe/Berlin:20261102T133000
DTEND;TZID=Europe/Berlin:20261102T153000
DTSTAMP:20260424T170058
CREATED:20260217T091857Z
LAST-MODIFIED:20260217T091857Z
UID:16135-1793626200-1793633400@www.kontaktstelle-shg.de
SUMMARY:SHG SeHblick 2
DESCRIPTION:Neue Gesichter sind bei uns jederzeit herzlich willkommen! Wenn du Interesse hast\, an unserem Selbsthilfegruppetreffen teilzunehmen\, wende dich bitte vorab kurz an die örtliche Selbsthilfekontaktstelle. Dort erhältst du alle Informationen zum Ablauf und den nächsten Terminen. Wir freuen uns darauf\, dich kennenzulernen! \nWarum der Umweg über die Kontaktstelle? \nDie Selbsthilfekontaktstellen dienen als zentrale Beratungsstellen und Brücke zwischen Interessierten und den Gruppen. Dies hat für alle Beteiligten Vorteile: \nSchutz des Raums: Es wird sichergestellt\, dass die Gruppe für die neuen Teilnehmer passt. \nInformation: Interessierte erhalten vorab eine erste Beratung und alle notwendigen Details zum Treffpunkt.
URL:https://www.kontaktstelle-shg.de/veranstaltung/shg-sehblick-2-2-2-2-6/
CATEGORIES:Aktuelle Termine
END:VEVENT
BEGIN:VEVENT
DTSTART;TZID=Europe/Berlin:20261116T133000
DTEND;TZID=Europe/Berlin:20261116T153000
DTSTAMP:20260424T170058
CREATED:20260217T091623Z
LAST-MODIFIED:20260217T091623Z
UID:16121-1794835800-1794843000@www.kontaktstelle-shg.de
SUMMARY:SHG SeHblick 1
DESCRIPTION:Neue Gesichter sind bei uns jederzeit herzlich willkommen! Wenn du Interesse hast\, an unserem Selbsthilfegruppetreffen teilzunehmen\, wende dich bitte vorab kurz an die örtliche Selbsthilfekontaktstelle. Dort erhältst du alle Informationen zum Ablauf und den nächsten Terminen. Wir freuen uns darauf\, dich kennenzulernen! \nWarum der Umweg über die Kontaktstelle? \nDie Selbsthilfekontaktstellen dienen als zentrale Beratungsstellen und Brücke zwischen Interessierten und den Gruppen. Dies hat für alle Beteiligten Vorteile: \nSchutz des Raums: Es wird sichergestellt\, dass die Gruppe für die neuen Teilnehmer passt. \nInformation: Interessierte erhalten vorab eine erste Beratung und alle notwendigen Details zum Treffpunkt.
URL:https://www.kontaktstelle-shg.de/veranstaltung/shg-sehblick-3-2-2-2-6/
CATEGORIES:Aktuelle Termine
END:VEVENT
BEGIN:VEVENT
DTSTART;TZID=Europe/Berlin:20261130T133000
DTEND;TZID=Europe/Berlin:20261130T153000
DTSTAMP:20260424T170058
CREATED:20260217T091908Z
LAST-MODIFIED:20260217T091908Z
UID:16137-1796045400-1796052600@www.kontaktstelle-shg.de
SUMMARY:SHG SeHblick 2
DESCRIPTION:Neue Gesichter sind bei uns jederzeit herzlich willkommen! Wenn du Interesse hast\, an unserem Selbsthilfegruppetreffen teilzunehmen\, wende dich bitte vorab kurz an die örtliche Selbsthilfekontaktstelle. Dort erhältst du alle Informationen zum Ablauf und den nächsten Terminen. Wir freuen uns darauf\, dich kennenzulernen! \nWarum der Umweg über die Kontaktstelle? \nDie Selbsthilfekontaktstellen dienen als zentrale Beratungsstellen und Brücke zwischen Interessierten und den Gruppen. Dies hat für alle Beteiligten Vorteile: \nSchutz des Raums: Es wird sichergestellt\, dass die Gruppe für die neuen Teilnehmer passt. \nInformation: Interessierte erhalten vorab eine erste Beratung und alle notwendigen Details zum Treffpunkt.
URL:https://www.kontaktstelle-shg.de/veranstaltung/shg-sehblick-2-2-2-2-7/
CATEGORIES:Aktuelle Termine
END:VEVENT
END:VCALENDAR