BEGIN:VCALENDAR
VERSION:2.0
PRODID:-//PARITÄTISCHE Selbsthilfekontaktstelle Halle-Saalekreis - ECPv6.2.5//NONSGML v1.0//EN
CALSCALE:GREGORIAN
METHOD:PUBLISH
X-ORIGINAL-URL:https://www.kontaktstelle-shg.de
X-WR-CALDESC:Veranstaltungen für PARITÄTISCHE Selbsthilfekontaktstelle Halle-Saalekreis
REFRESH-INTERVAL;VALUE=DURATION:PT1H
X-Robots-Tag:noindex
X-PUBLISHED-TTL:PT1H
BEGIN:VTIMEZONE
TZID:Europe/Berlin
BEGIN:DAYLIGHT
TZOFFSETFROM:+0100
TZOFFSETTO:+0200
TZNAME:CEST
DTSTART:20260329T010000
END:DAYLIGHT
BEGIN:STANDARD
TZOFFSETFROM:+0200
TZOFFSETTO:+0100
TZNAME:CET
DTSTART:20261025T010000
END:STANDARD
END:VTIMEZONE
BEGIN:VEVENT
DTSTART;TZID=Europe/Berlin:20260803T163000
DTEND;TZID=Europe/Berlin:20260803T183000
DTSTAMP:20260424T161552
CREATED:20260217T084601Z
LAST-MODIFIED:20260217T084601Z
UID:16028-1785774600-1785781800@www.kontaktstelle-shg.de
SUMMARY:SHG Depression und Ängste
DESCRIPTION:Neue Gesichter sind bei uns jederzeit herzlich willkommen! Wenn du Interesse hast\, an unserem Selbsthilfegruppetreffen teilzunehmen\, wende dich bitte vorab kurz an die örtliche Selbsthilfekontaktstelle. Dort erhältst du alle Informationen zum Ablauf und den nächsten Terminen. Wir freuen uns darauf\, dich kennenzulernen! \nWarum der Umweg über die Kontaktstelle? \nDie Selbsthilfekontaktstellen dienen als zentrale Beratungsstellen und Brücke zwischen Interessierten und den Gruppen. Dies hat für alle Beteiligten Vorteile: \nSchutz des Raums: Es wird sichergestellt\, dass die Gruppe für die neuen Teilnehmer passt. \nInformation: Interessierte erhalten vorab eine erste Beratung und alle notwendigen Details zum Treffpunkt.
URL:https://www.kontaktstelle-shg.de/veranstaltung/shg-depression-und-aengste-3-2-2-2-2-4/
CATEGORIES:Aktuelle Termine
END:VEVENT
BEGIN:VEVENT
DTSTART;TZID=Europe/Berlin:20260803T170000
DTEND;TZID=Europe/Berlin:20260803T190000
DTSTAMP:20260424T161552
CREATED:20260217T092541Z
LAST-MODIFIED:20260217T092541Z
UID:16166-1785776400-1785783600@www.kontaktstelle-shg.de
SUMMARY:SHG Eltern sein nach Trennung
DESCRIPTION:Neue Gesichter sind bei uns jederzeit herzlich willkommen! Wenn du Interesse hast\, an unserem Selbsthilfegruppetreffen teilzunehmen\, wende dich bitte vorab kurz an die örtliche Selbsthilfekontaktstelle. Dort erhältst du alle Informationen zum Ablauf und den nächsten Terminen. Wir freuen uns darauf\, dich kennenzulernen! \nWarum der Umweg über die Kontaktstelle? \nDie Selbsthilfekontaktstellen dienen als zentrale Beratungsstellen und Brücke zwischen Interessierten und den Gruppen. Dies hat für alle Beteiligten Vorteile: \nSchutz des Raums: Es wird sichergestellt\, dass die Gruppe für die neuen Teilnehmer passt. \nInformation: Interessierte erhalten vorab eine erste Beratung und alle notwendigen Details zum Treffpunkt.
URL:https://www.kontaktstelle-shg.de/veranstaltung/shg-eltern-sein-nach-trennung-2-2-3/
CATEGORIES:Aktuelle Termine
END:VEVENT
BEGIN:VEVENT
DTSTART;TZID=Europe/Berlin:20260804T100000
DTEND;TZID=Europe/Berlin:20260804T120000
DTSTAMP:20260424T161552
CREATED:20260217T093303Z
LAST-MODIFIED:20260217T093303Z
UID:16198-1785837600-1785844800@www.kontaktstelle-shg.de
SUMMARY:Verein zur Förderung der Organspende und Transplantation e.V.
DESCRIPTION:Das Anliegen des Vereins sind die \n\nVerbreitung des Gedankens der uneigennützigen Organspende\nAufklärung über Möglichkeiten und Grenzen der Organspende\nBeratung und Begleitung für Organempfänger und für Angehörige von Organspendern.Kommen Sie zum Beratungsgespräch
URL:https://www.kontaktstelle-shg.de/veranstaltung/verein-zur-foerderung-der-organspende-und-transplantation-e-v-2-2-2/
CATEGORIES:Aktuelle Termine
END:VEVENT
BEGIN:VEVENT
DTSTART;TZID=Europe/Berlin:20260804T170000
DTEND;TZID=Europe/Berlin:20260804T190000
DTSTAMP:20260424T161552
CREATED:20260216T115919Z
LAST-MODIFIED:20260216T115919Z
UID:15996-1785862800-1785870000@www.kontaktstelle-shg.de
SUMMARY:Depression 1
DESCRIPTION:Neue Gesichter sind bei uns jederzeit herzlich willkommen! Wenn du Interesse hast\, an unserem Selbsthilfegruppetreffen teilzunehmen\, wende dich bitte vorab kurz an die örtliche Selbsthilfekontaktstelle. Dort erhältst du alle Informationen zum Ablauf und den nächsten Terminen. Wir freuen uns darauf\, dich kennenzulernen! \nWarum der Umweg über die Kontaktstelle? \nDie Selbsthilfekontaktstellen dienen als zentrale Beratungsstellen und Brücke zwischen Interessierten und den Gruppen. Dies hat für alle Beteiligten Vorteile: \nSchutz des Raums: Es wird sichergestellt\, dass die Gruppe für die neuen Teilnehmer passt. \nInformation: Interessierte erhalten vorab eine erste Beratung und alle notwendigen Details zum Treffpunkt.
URL:https://www.kontaktstelle-shg.de/veranstaltung/depression-1-2-2-2-3/
CATEGORIES:Aktuelle Termine
END:VEVENT
BEGIN:VEVENT
DTSTART;TZID=Europe/Berlin:20260804T170000
DTEND;TZID=Europe/Berlin:20260804T190000
DTSTAMP:20260424T161552
CREATED:20260217T092836Z
LAST-MODIFIED:20260217T092836Z
UID:16178-1785862800-1785870000@www.kontaktstelle-shg.de
SUMMARY:SHG Zwänge
DESCRIPTION:Neue Gesichter sind bei uns jederzeit herzlich willkommen! Wenn du Interesse hast\, an unserem Selbsthilfegruppetreffen teilzunehmen\, wende dich bitte vorab kurz an die örtliche Selbsthilfekontaktstelle. Dort erhältst du alle Informationen zum Ablauf und den nächsten Terminen. Wir freuen uns darauf\, dich kennenzulernen! \nWarum der Umweg über die Kontaktstelle? \nDie Selbsthilfekontaktstellen dienen als zentrale Beratungsstellen und Brücke zwischen Interessierten und den Gruppen. Dies hat für alle Beteiligten Vorteile: \nSchutz des Raums: Es wird sichergestellt\, dass die Gruppe für die neuen Teilnehmer passt. \nInformation: Interessierte erhalten vorab eine erste Beratung und alle notwendigen Details zum Treffpunkt.
URL:https://www.kontaktstelle-shg.de/veranstaltung/shg-zwaenge-2-4/
CATEGORIES:Aktuelle Termine
END:VEVENT
BEGIN:VEVENT
DTSTART;TZID=Europe/Berlin:20260810T133000
DTEND;TZID=Europe/Berlin:20260810T153000
DTSTAMP:20260424T161552
CREATED:20260217T091830Z
LAST-MODIFIED:20260217T091830Z
UID:16133-1786368600-1786375800@www.kontaktstelle-shg.de
SUMMARY:SHG SeHblick 2
DESCRIPTION:Neue Gesichter sind bei uns jederzeit herzlich willkommen! Wenn du Interesse hast\, an unserem Selbsthilfegruppetreffen teilzunehmen\, wende dich bitte vorab kurz an die örtliche Selbsthilfekontaktstelle. Dort erhältst du alle Informationen zum Ablauf und den nächsten Terminen. Wir freuen uns darauf\, dich kennenzulernen! \nWarum der Umweg über die Kontaktstelle? \nDie Selbsthilfekontaktstellen dienen als zentrale Beratungsstellen und Brücke zwischen Interessierten und den Gruppen. Dies hat für alle Beteiligten Vorteile: \nSchutz des Raums: Es wird sichergestellt\, dass die Gruppe für die neuen Teilnehmer passt. \nInformation: Interessierte erhalten vorab eine erste Beratung und alle notwendigen Details zum Treffpunkt.
URL:https://www.kontaktstelle-shg.de/veranstaltung/shg-sehblick-2-2-2-2-3/
CATEGORIES:Aktuelle Termine
END:VEVENT
BEGIN:VEVENT
DTSTART;TZID=Europe/Berlin:20260810T163000
DTEND;TZID=Europe/Berlin:20260810T183000
DTSTAMP:20260424T161552
CREATED:20260217T085126Z
LAST-MODIFIED:20260217T085126Z
UID:16054-1786379400-1786386600@www.kontaktstelle-shg.de
SUMMARY:SHG Lipödem
DESCRIPTION:Neue Gesichter sind bei uns jederzeit herzlich willkommen! Wenn du Interesse hast\, an unserem Selbsthilfegruppetreffen teilzunehmen\, wende dich bitte vorab kurz an die örtliche Selbsthilfekontaktstelle. Dort erhältst du alle Informationen zum Ablauf und den nächsten Terminen. Wir freuen uns darauf\, dich kennenzulernen! \nWarum der Umweg über die Kontaktstelle? \nDie Selbsthilfekontaktstellen dienen als zentrale Beratungsstellen und Brücke zwischen Interessierten und den Gruppen. Dies hat für alle Beteiligten Vorteile: \nSchutz des Raums: Es wird sichergestellt\, dass die Gruppe für die neuen Teilnehmer passt. \nInformation: Interessierte erhalten vorab eine erste Beratung und alle notwendigen Details zum Treffpunkt.
URL:https://www.kontaktstelle-shg.de/veranstaltung/shg-lipoedem-2-2-2-3/
CATEGORIES:Aktuelle Termine
END:VEVENT
BEGIN:VEVENT
DTSTART;TZID=Europe/Berlin:20260812T100000
DTEND;TZID=Europe/Berlin:20260812T120000
DTSTAMP:20260424T161552
CREATED:20260217T090648Z
LAST-MODIFIED:20260217T090648Z
UID:16104-1786528800-1786536000@www.kontaktstelle-shg.de
SUMMARY:SHG Morbus Crohn 2
DESCRIPTION:Neue Gesichter sind bei uns jederzeit herzlich willkommen! Wenn du Interesse hast\, an unserem Selbsthilfegruppetreffen teilzunehmen\, wende dich bitte vorab kurz an die örtliche Selbsthilfekontaktstelle. Dort erhältst du alle Informationen zum Ablauf und den nächsten Terminen. Wir freuen uns darauf\, dich kennenzulernen! \nWarum der Umweg über die Kontaktstelle? \nDie Selbsthilfekontaktstellen dienen als zentrale Beratungsstellen und Brücke zwischen Interessierten und den Gruppen. Dies hat für alle Beteiligten Vorteile: \nSchutz des Raums: Es wird sichergestellt\, dass die Gruppe für die neuen Teilnehmer passt. \nInformation: Interessierte erhalten vorab eine erste Beratung und alle notwendigen Details zum Treffpunkt.
URL:https://www.kontaktstelle-shg.de/veranstaltung/shg-morbus-crohn-2-2-2-2-3/
CATEGORIES:Aktuelle Termine
END:VEVENT
BEGIN:VEVENT
DTSTART;TZID=Europe/Berlin:20260813T140000
DTEND;TZID=Europe/Berlin:20260813T160000
DTSTAMP:20260424T161552
CREATED:20260217T093103Z
LAST-MODIFIED:20260217T093103Z
UID:16191-1786629600-1786636800@www.kontaktstelle-shg.de
SUMMARY:Beratungstermin SHG GBS
DESCRIPTION:Deutsche GBS CIDP Initiative e.V. \, Landesverband Sachsen-Anhalt\nHilfe für Betroffene\, Angehörige\, Freunde\, Interessente \n\n\n\n\nKontakt über: Rainer Putscher\, Margit Schiffner   /  Telefon: 0179 5904432
URL:https://www.kontaktstelle-shg.de/veranstaltung/beratungstermin-shg-gbs-6-2-2-2/
LOCATION:Paritätische Selbsthilfekontaktstelle Halle-Saalekreis\, Merseburger Straße 246\, Halle\, 06130\, Deutschland
CATEGORIES:Aktuelle Termine
END:VEVENT
BEGIN:VEVENT
DTSTART;TZID=Europe/Berlin:20260813T160000
DTEND;TZID=Europe/Berlin:20260813T180000
DTSTAMP:20260424T161552
CREATED:20260217T085622Z
LAST-MODIFIED:20260217T085622Z
UID:16066-1786636800-1786644000@www.kontaktstelle-shg.de
SUMMARY:SHG Long CoVid 2
DESCRIPTION:Neue Gesichter sind bei uns jederzeit herzlich willkommen! Wenn du Interesse hast\, an unserem Selbsthilfegruppetreffen teilzunehmen\, wende dich bitte vorab kurz an die örtliche Selbsthilfekontaktstelle. Dort erhältst du alle Informationen zum Ablauf und den nächsten Terminen. Wir freuen uns darauf\, dich kennenzulernen! \nWarum der Umweg über die Kontaktstelle? \nDie Selbsthilfekontaktstellen dienen als zentrale Beratungsstellen und Brücke zwischen Interessierten und den Gruppen. Dies hat für alle Beteiligten Vorteile: \nSchutz des Raums: Es wird sichergestellt\, dass die Gruppe für die neuen Teilnehmer passt. \nInformation: Interessierte erhalten vorab eine erste Beratung und alle notwendigen Details zum Treffpunkt.
URL:https://www.kontaktstelle-shg.de/veranstaltung/shg-long-covid-2-2-2-2-3/
CATEGORIES:Aktuelle Termine
END:VEVENT
BEGIN:VEVENT
DTSTART;TZID=Europe/Berlin:20260813T163000
DTEND;TZID=Europe/Berlin:20260813T183000
DTSTAMP:20260424T161552
CREATED:20260217T092030Z
LAST-MODIFIED:20260217T092030Z
UID:16144-1786638600-1786645800@www.kontaktstelle-shg.de
SUMMARY:SHG Soziale Phobie
DESCRIPTION:Neue Gesichter sind bei uns jederzeit herzlich willkommen! Wenn du Interesse hast\, an unserem Selbsthilfegruppetreffen teilzunehmen\, wende dich bitte vorab kurz an die örtliche Selbsthilfekontaktstelle. Dort erhältst du alle Informationen zum Ablauf und den nächsten Terminen. Wir freuen uns darauf\, dich kennenzulernen! \nWarum der Umweg über die Kontaktstelle? \nDie Selbsthilfekontaktstellen dienen als zentrale Beratungsstellen und Brücke zwischen Interessierten und den Gruppen. Dies hat für alle Beteiligten Vorteile: \nSchutz des Raums: Es wird sichergestellt\, dass die Gruppe für die neuen Teilnehmer passt. \nInformation: Interessierte erhalten vorab eine erste Beratung und alle notwendigen Details zum Treffpunkt.
URL:https://www.kontaktstelle-shg.de/veranstaltung/shg-soziale-phobie-2-2/
CATEGORIES:Aktuelle Termine
END:VEVENT
BEGIN:VEVENT
DTSTART;TZID=Europe/Berlin:20260813T170000
DTEND;TZID=Europe/Berlin:20260813T190000
DTSTAMP:20260424T161552
CREATED:20260216T081406Z
LAST-MODIFIED:20260227T094429Z
UID:15951-1786640400-1786647600@www.kontaktstelle-shg.de
SUMMARY:Treffen SHG AD(H)S 2
DESCRIPTION:Wenn du Interesse hast\, an unserem Selbsthilfegruppetreffen teilzunehmen\, wende dich bitte vorab kurz an die örtliche Selbsthilfekontaktstelle. Dort erhältst du alle Informationen zum Ablauf und den nächsten Terminen. Wir freuen uns darauf\, dich kennenzulernen! \nWarum der Umweg über die Kontaktstelle? \nDie Selbsthilfekontaktstellen dienen als zentrale Beratungsstellen und Brücke zwischen Interessierten und den Gruppen. Dies hat für alle Beteiligten Vorteile: \nSchutz des Raums: Es wird sichergestellt\, dass die Gruppe für die neuen Teilnehmer passt. \nInformation: Interessierte erhalten vorab eine erste Beratung und alle notwendigen Details zum Treffpunkt.
URL:https://www.kontaktstelle-shg.de/veranstaltung/treffen-shg-adhs-2-2-2-2-2-2/
CATEGORIES:Aktuelle Termine
END:VEVENT
BEGIN:VEVENT
DTSTART;TZID=Europe/Berlin:20260817T170000
DTEND;TZID=Europe/Berlin:20260817T190000
DTSTAMP:20260424T161552
CREATED:20260216T114747Z
LAST-MODIFIED:20260216T114747Z
UID:15976-1786986000-1786993200@www.kontaktstelle-shg.de
SUMMARY:SHG Angehörige und Freunde psychisch Kranker
DESCRIPTION:Neue Gesichter sind bei uns jederzeit herzlich willkommen! Wenn du Interesse hast\, an unserem Selbsthilfegruppetreffen teilzunehmen\, wende dich bitte vorab kurz an die örtliche Selbsthilfekontaktstelle. Dort erhältst du alle Informationen zum Ablauf und den nächsten Terminen. Wir freuen uns darauf\, dich kennenzulernen! \nWarum der Umweg über die Kontaktstelle? \nDie Selbsthilfekontaktstellen dienen als zentrale Beratungsstellen und Brücke zwischen Interessierten und den Gruppen. Dies hat für alle Beteiligten Vorteile: \nSchutz des Raums: Es wird sichergestellt\, dass die Gruppe für die neuen Teilnehmer passt. \nInformation: Interessierte erhalten vorab eine erste Beratung und alle notwendigen Details zum Treffpunkt.
URL:https://www.kontaktstelle-shg.de/veranstaltung/shg-angehoerige-und-freunde-psychisch-kranker-2-2-2-3/
CATEGORIES:Aktuelle Termine
END:VEVENT
BEGIN:VEVENT
DTSTART;TZID=Europe/Berlin:20260820T163000
DTEND;TZID=Europe/Berlin:20260820T183000
DTSTAMP:20260424T161552
CREATED:20260217T084616Z
LAST-MODIFIED:20260217T084616Z
UID:16027-1787243400-1787250600@www.kontaktstelle-shg.de
SUMMARY:SHG Depression und Ängste
DESCRIPTION:Neue Gesichter sind bei uns jederzeit herzlich willkommen! Wenn du Interesse hast\, an unserem Selbsthilfegruppetreffen teilzunehmen\, wende dich bitte vorab kurz an die örtliche Selbsthilfekontaktstelle. Dort erhältst du alle Informationen zum Ablauf und den nächsten Terminen. Wir freuen uns darauf\, dich kennenzulernen! \nWarum der Umweg über die Kontaktstelle? \nDie Selbsthilfekontaktstellen dienen als zentrale Beratungsstellen und Brücke zwischen Interessierten und den Gruppen. Dies hat für alle Beteiligten Vorteile: \nSchutz des Raums: Es wird sichergestellt\, dass die Gruppe für die neuen Teilnehmer passt. \nInformation: Interessierte erhalten vorab eine erste Beratung und alle notwendigen Details zum Treffpunkt.
URL:https://www.kontaktstelle-shg.de/veranstaltung/shg-depression-und-aengste-3-2-2-2-2-5/
CATEGORIES:Aktuelle Termine
END:VEVENT
BEGIN:VEVENT
DTSTART;TZID=Europe/Berlin:20260820T170000
DTEND;TZID=Europe/Berlin:20260820T190000
DTSTAMP:20260424T161552
CREATED:20260217T083652Z
LAST-MODIFIED:20260217T083652Z
UID:16012-1787245200-1787252400@www.kontaktstelle-shg.de
SUMMARY:Depressionen 2
DESCRIPTION:Neue Gesichter sind bei uns jederzeit herzlich willkommen! Wenn du Interesse hast\, an unserem Selbsthilfegruppetreffen teilzunehmen\, wende dich bitte vorab kurz an die örtliche Selbsthilfekontaktstelle. Dort erhältst du alle Informationen zum Ablauf und den nächsten Terminen. Wir freuen uns darauf\, dich kennenzulernen! \nWarum der Umweg über die Kontaktstelle? \nDie Selbsthilfekontaktstellen dienen als zentrale Beratungsstellen und Brücke zwischen Interessierten und den Gruppen. Dies hat für alle Beteiligten Vorteile: \nSchutz des Raums: Es wird sichergestellt\, dass die Gruppe für die neuen Teilnehmer passt. \nInformation: Interessierte erhalten vorab eine erste Beratung und alle notwendigen Details zum Treffpunkt.
URL:https://www.kontaktstelle-shg.de/veranstaltung/depressionen-2-2-2-2-3/
CATEGORIES:Aktuelle Termine
END:VEVENT
BEGIN:VEVENT
DTSTART;TZID=Europe/Berlin:20260824T133000
DTEND;TZID=Europe/Berlin:20260824T153000
DTSTAMP:20260424T161552
CREATED:20260217T091556Z
LAST-MODIFIED:20260217T091556Z
UID:16119-1787578200-1787585400@www.kontaktstelle-shg.de
SUMMARY:SHG SeHblick 1
DESCRIPTION:Neue Gesichter sind bei uns jederzeit herzlich willkommen! Wenn du Interesse hast\, an unserem Selbsthilfegruppetreffen teilzunehmen\, wende dich bitte vorab kurz an die örtliche Selbsthilfekontaktstelle. Dort erhältst du alle Informationen zum Ablauf und den nächsten Terminen. Wir freuen uns darauf\, dich kennenzulernen! \nWarum der Umweg über die Kontaktstelle? \nDie Selbsthilfekontaktstellen dienen als zentrale Beratungsstellen und Brücke zwischen Interessierten und den Gruppen. Dies hat für alle Beteiligten Vorteile: \nSchutz des Raums: Es wird sichergestellt\, dass die Gruppe für die neuen Teilnehmer passt. \nInformation: Interessierte erhalten vorab eine erste Beratung und alle notwendigen Details zum Treffpunkt.
URL:https://www.kontaktstelle-shg.de/veranstaltung/shg-sehblick-3-2-2-2-3/
CATEGORIES:Aktuelle Termine
END:VEVENT
BEGIN:VEVENT
DTSTART;TZID=Europe/Berlin:20260827T160000
DTEND;TZID=Europe/Berlin:20260827T180000
DTSTAMP:20260424T161552
CREATED:20260217T090042Z
LAST-MODIFIED:20260217T090042Z
UID:16083-1787846400-1787853600@www.kontaktstelle-shg.de
SUMMARY:SHG Long CoVid 3
DESCRIPTION:Neue Gesichter sind bei uns jederzeit herzlich willkommen! Wenn du Interesse hast\, an unserem Selbsthilfegruppetreffen teilzunehmen\, wende dich bitte vorab kurz an die örtliche Selbsthilfekontaktstelle. Dort erhältst du alle Informationen zum Ablauf und den nächsten Terminen. Wir freuen uns darauf\, dich kennenzulernen! \nWarum der Umweg über die Kontaktstelle? \nDie Selbsthilfekontaktstellen dienen als zentrale Beratungsstellen und Brücke zwischen Interessierten und den Gruppen. Dies hat für alle Beteiligten Vorteile: \nSchutz des Raums: Es wird sichergestellt\, dass die Gruppe für die neuen Teilnehmer passt. \nInformation: Interessierte erhalten vorab eine erste Beratung und alle notwendigen Details zum Treffpunkt.
URL:https://www.kontaktstelle-shg.de/veranstaltung/shg-long-covid-3-2-2-2-3/
CATEGORIES:Aktuelle Termine
END:VEVENT
BEGIN:VEVENT
DTSTART;TZID=Europe/Berlin:20260827T160000
DTEND;TZID=Europe/Berlin:20260827T180000
DTSTAMP:20260424T161552
CREATED:20260217T090334Z
LAST-MODIFIED:20260217T090334Z
UID:16096-1787846400-1787853600@www.kontaktstelle-shg.de
SUMMARY:SHG Long CoVid 1
DESCRIPTION:Neue Gesichter sind bei uns jederzeit herzlich willkommen! Wenn du Interesse hast\, an unserem Selbsthilfegruppetreffen teilzunehmen\, wende dich bitte vorab kurz an die örtliche Selbsthilfekontaktstelle. Dort erhältst du alle Informationen zum Ablauf und den nächsten Terminen. Wir freuen uns darauf\, dich kennenzulernen! \nWarum der Umweg über die Kontaktstelle? \nDie Selbsthilfekontaktstellen dienen als zentrale Beratungsstellen und Brücke zwischen Interessierten und den Gruppen. Dies hat für alle Beteiligten Vorteile: \nSchutz des Raums: Es wird sichergestellt\, dass die Gruppe für die neuen Teilnehmer passt. \nInformation: Interessierte erhalten vorab eine erste Beratung und alle notwendigen Details zum Treffpunkt.
URL:https://www.kontaktstelle-shg.de/veranstaltung/shg-long-covid-1-2-2-2-3/
CATEGORIES:Aktuelle Termine
END:VEVENT
BEGIN:VEVENT
DTSTART;TZID=Europe/Berlin:20260827T170000
DTEND;TZID=Europe/Berlin:20260827T190000
DTSTAMP:20260424T161552
CREATED:20260216T081414Z
LAST-MODIFIED:20260216T081414Z
UID:15952-1787850000-1787857200@www.kontaktstelle-shg.de
SUMMARY:Treffen SHG AD(H)S
DESCRIPTION:Neue Gesichter sind bei uns jederzeit herzlich willkommen! Wenn du Interesse hast\, an unserem Selbsthilfegruppetreffen teilzunehmen\, wende dich bitte vorab kurz an die örtliche Selbsthilfekontaktstelle. Dort erhältst du alle Informationen zum Ablauf und den nächsten Terminen. Wir freuen uns darauf\, dich kennenzulernen! \nWarum der Umweg über die Kontaktstelle? \nDie Selbsthilfekontaktstellen dienen als zentrale Beratungsstellen und Brücke zwischen Interessierten und den Gruppen. Dies hat für alle Beteiligten Vorteile: \nSchutz des Raums: Es wird sichergestellt\, dass die Gruppe für die neuen Teilnehmer passt. \nInformation: Interessierte erhalten vorab eine erste Beratung und alle notwendigen Details zum Treffpunkt.
URL:https://www.kontaktstelle-shg.de/veranstaltung/treffen-shg-adhs-3-2-2-2-2-2/
CATEGORIES:Aktuelle Termine
END:VEVENT
END:VCALENDAR