BEGIN:VCALENDAR
VERSION:2.0
PRODID:-//PARITÄTISCHE Selbsthilfekontaktstelle Halle-Saalekreis - ECPv6.2.5//NONSGML v1.0//EN
CALSCALE:GREGORIAN
METHOD:PUBLISH
X-ORIGINAL-URL:https://www.kontaktstelle-shg.de
X-WR-CALDESC:Veranstaltungen für PARITÄTISCHE Selbsthilfekontaktstelle Halle-Saalekreis
REFRESH-INTERVAL;VALUE=DURATION:PT1H
X-Robots-Tag:noindex
X-PUBLISHED-TTL:PT1H
BEGIN:VTIMEZONE
TZID:Europe/Berlin
BEGIN:DAYLIGHT
TZOFFSETFROM:+0100
TZOFFSETTO:+0200
TZNAME:CEST
DTSTART:20260329T010000
END:DAYLIGHT
BEGIN:STANDARD
TZOFFSETFROM:+0200
TZOFFSETTO:+0100
TZNAME:CET
DTSTART:20261025T010000
END:STANDARD
END:VTIMEZONE
BEGIN:VEVENT
DTSTART;TZID=Europe/Berlin:20260907T133000
DTEND;TZID=Europe/Berlin:20260907T153000
DTSTAMP:20260424T161544
CREATED:20260217T091839Z
LAST-MODIFIED:20260217T091839Z
UID:16134-1788787800-1788795000@www.kontaktstelle-shg.de
SUMMARY:SHG SeHblick 2
DESCRIPTION:Neue Gesichter sind bei uns jederzeit herzlich willkommen! Wenn du Interesse hast\, an unserem Selbsthilfegruppetreffen teilzunehmen\, wende dich bitte vorab kurz an die örtliche Selbsthilfekontaktstelle. Dort erhältst du alle Informationen zum Ablauf und den nächsten Terminen. Wir freuen uns darauf\, dich kennenzulernen! \nWarum der Umweg über die Kontaktstelle? \nDie Selbsthilfekontaktstellen dienen als zentrale Beratungsstellen und Brücke zwischen Interessierten und den Gruppen. Dies hat für alle Beteiligten Vorteile: \nSchutz des Raums: Es wird sichergestellt\, dass die Gruppe für die neuen Teilnehmer passt. \nInformation: Interessierte erhalten vorab eine erste Beratung und alle notwendigen Details zum Treffpunkt.
URL:https://www.kontaktstelle-shg.de/veranstaltung/shg-sehblick-2-2-2-2-4/
CATEGORIES:Aktuelle Termine
END:VEVENT
BEGIN:VEVENT
DTSTART;TZID=Europe/Berlin:20260907T163000
DTEND;TZID=Europe/Berlin:20260907T183000
DTSTAMP:20260424T161544
CREATED:20260217T084632Z
LAST-MODIFIED:20260217T084632Z
UID:16029-1788798600-1788805800@www.kontaktstelle-shg.de
SUMMARY:SHG Depression und Ängste
DESCRIPTION:Neue Gesichter sind bei uns jederzeit herzlich willkommen! Wenn du Interesse hast\, an unserem Selbsthilfegruppetreffen teilzunehmen\, wende dich bitte vorab kurz an die örtliche Selbsthilfekontaktstelle. Dort erhältst du alle Informationen zum Ablauf und den nächsten Terminen. Wir freuen uns darauf\, dich kennenzulernen! \nWarum der Umweg über die Kontaktstelle? \nDie Selbsthilfekontaktstellen dienen als zentrale Beratungsstellen und Brücke zwischen Interessierten und den Gruppen. Dies hat für alle Beteiligten Vorteile: \nSchutz des Raums: Es wird sichergestellt\, dass die Gruppe für die neuen Teilnehmer passt. \nInformation: Interessierte erhalten vorab eine erste Beratung und alle notwendigen Details zum Treffpunkt.
URL:https://www.kontaktstelle-shg.de/veranstaltung/shg-depression-und-aengste-3-2-2-2-2-6/
CATEGORIES:Aktuelle Termine
END:VEVENT
BEGIN:VEVENT
DTSTART;TZID=Europe/Berlin:20260907T170000
DTEND;TZID=Europe/Berlin:20260907T190000
DTSTAMP:20260424T161544
CREATED:20260217T092548Z
LAST-MODIFIED:20260217T092548Z
UID:16165-1788800400-1788807600@www.kontaktstelle-shg.de
SUMMARY:SHG Eltern sein nach Trennung
DESCRIPTION:Neue Gesichter sind bei uns jederzeit herzlich willkommen! Wenn du Interesse hast\, an unserem Selbsthilfegruppetreffen teilzunehmen\, wende dich bitte vorab kurz an die örtliche Selbsthilfekontaktstelle. Dort erhältst du alle Informationen zum Ablauf und den nächsten Terminen. Wir freuen uns darauf\, dich kennenzulernen! \nWarum der Umweg über die Kontaktstelle? \nDie Selbsthilfekontaktstellen dienen als zentrale Beratungsstellen und Brücke zwischen Interessierten und den Gruppen. Dies hat für alle Beteiligten Vorteile: \nSchutz des Raums: Es wird sichergestellt\, dass die Gruppe für die neuen Teilnehmer passt. \nInformation: Interessierte erhalten vorab eine erste Beratung und alle notwendigen Details zum Treffpunkt.
URL:https://www.kontaktstelle-shg.de/veranstaltung/shg-eltern-sein-nach-trennung-2-2-4/
CATEGORIES:Aktuelle Termine
END:VEVENT
END:VCALENDAR