BEGIN:VCALENDAR
VERSION:2.0
PRODID:-//PARITÄTISCHE Selbsthilfekontaktstelle Halle-Saalekreis - ECPv6.2.5//NONSGML v1.0//EN
CALSCALE:GREGORIAN
METHOD:PUBLISH
X-WR-CALNAME:PARITÄTISCHE Selbsthilfekontaktstelle Halle-Saalekreis
X-ORIGINAL-URL:https://www.kontaktstelle-shg.de
X-WR-CALDESC:Veranstaltungen für PARITÄTISCHE Selbsthilfekontaktstelle Halle-Saalekreis
REFRESH-INTERVAL;VALUE=DURATION:PT1H
X-Robots-Tag:noindex
X-PUBLISHED-TTL:PT1H
BEGIN:VTIMEZONE
TZID:Europe/Berlin
BEGIN:DAYLIGHT
TZOFFSETFROM:+0100
TZOFFSETTO:+0200
TZNAME:CEST
DTSTART:20260329T010000
END:DAYLIGHT
BEGIN:STANDARD
TZOFFSETFROM:+0200
TZOFFSETTO:+0100
TZNAME:CET
DTSTART:20261025T010000
END:STANDARD
END:VTIMEZONE
BEGIN:VEVENT
DTSTART;TZID=Europe/Berlin:20260602T100000
DTEND;TZID=Europe/Berlin:20260602T120000
DTSTAMP:20260424T111822
CREATED:20260212T082040Z
LAST-MODIFIED:20260212T082040Z
UID:15939-1780394400-1780401600@www.kontaktstelle-shg.de
SUMMARY:Verein zur Förderung der Organspende und Transplantation e.V.
DESCRIPTION:Das Anliegen des Vereins sind die \n\nVerbreitung des Gedankens der uneigennützigen Organspende\nAufklärung über Möglichkeiten und Grenzen der Organspende\nBeratung und Begleitung für Organempfänger und für Angehörige von Organspendern.Kommen Sie zum Beratungsgespräch
URL:https://www.kontaktstelle-shg.de/veranstaltung/verein-zur-foerderung-der-organspende-und-transplantation-e-v-2-2/
CATEGORIES:Aktuelle Termine
END:VEVENT
BEGIN:VEVENT
DTSTART;TZID=Europe/Berlin:20260602T170000
DTEND;TZID=Europe/Berlin:20260602T190000
DTSTAMP:20260424T111822
CREATED:20260212T072800Z
LAST-MODIFIED:20260212T072800Z
UID:15850-1780419600-1780426800@www.kontaktstelle-shg.de
SUMMARY:Depression 1
DESCRIPTION:Neue Gesichter sind bei uns jederzeit herzlich willkommen! Wenn du Interesse hast\, an unserem Selbsthilfegruppetreffen teilzunehmen\, wende dich bitte vorab kurz an die örtliche Selbsthilfekontaktstelle. Dort erhältst du alle Informationen zum Ablauf und den nächsten Terminen. Wir freuen uns darauf\, dich kennenzulernen! \nWarum der Umweg über die Kontaktstelle? \nDie Selbsthilfekontaktstellen dienen als zentrale Beratungsstellen und Brücke zwischen Interessierten und den Gruppen. Dies hat für alle Beteiligten Vorteile: \nSchutz des Raums: Es wird sichergestellt\, dass die Gruppe für die neuen Teilnehmer passt. \nInformation: Interessierte erhalten vorab eine erste Beratung und alle notwendigen Details zum Treffpunkt.
URL:https://www.kontaktstelle-shg.de/veranstaltung/depression-1-2-2-2/
CATEGORIES:Aktuelle Termine
END:VEVENT
BEGIN:VEVENT
DTSTART;TZID=Europe/Berlin:20260602T170000
DTEND;TZID=Europe/Berlin:20260602T190000
DTSTAMP:20260424T111822
CREATED:20260212T080222Z
LAST-MODIFIED:20260212T080222Z
UID:15931-1780419600-1780426800@www.kontaktstelle-shg.de
SUMMARY:SHG Zwänge
DESCRIPTION:Neue Gesichter sind bei uns jederzeit herzlich willkommen! Wenn du Interesse hast\, an unserem Selbsthilfegruppetreffen teilzunehmen\, wende dich bitte vorab kurz an die örtliche Selbsthilfekontaktstelle. Dort erhältst du alle Informationen zum Ablauf und den nächsten Terminen. Wir freuen uns darauf\, dich kennenzulernen! \nWarum der Umweg über die Kontaktstelle? \nDie Selbsthilfekontaktstellen dienen als zentrale Beratungsstellen und Brücke zwischen Interessierten und den Gruppen. Dies hat für alle Beteiligten Vorteile: \nSchutz des Raums: Es wird sichergestellt\, dass die Gruppe für die neuen Teilnehmer passt. \nInformation: Interessierte erhalten vorab eine erste Beratung und alle notwendigen Details zum Treffpunkt.
URL:https://www.kontaktstelle-shg.de/veranstaltung/shg-zwaenge-2-2-2/
CATEGORIES:Aktuelle Termine
END:VEVENT
END:VCALENDAR