BEGIN:VCALENDAR
VERSION:2.0
PRODID:-//PARITÄTISCHE Selbsthilfekontaktstelle Halle-Saalekreis - ECPv6.2.5//NONSGML v1.0//EN
CALSCALE:GREGORIAN
METHOD:PUBLISH
X-ORIGINAL-URL:https://www.kontaktstelle-shg.de
X-WR-CALDESC:Veranstaltungen für PARITÄTISCHE Selbsthilfekontaktstelle Halle-Saalekreis
REFRESH-INTERVAL;VALUE=DURATION:PT1H
X-Robots-Tag:noindex
X-PUBLISHED-TTL:PT1H
BEGIN:VTIMEZONE
TZID:Europe/Berlin
BEGIN:DAYLIGHT
TZOFFSETFROM:+0100
TZOFFSETTO:+0200
TZNAME:CEST
DTSTART:20260329T010000
END:DAYLIGHT
BEGIN:STANDARD
TZOFFSETFROM:+0200
TZOFFSETTO:+0100
TZNAME:CET
DTSTART:20261025T010000
END:STANDARD
END:VTIMEZONE
BEGIN:VEVENT
DTSTART;TZID=Europe/Berlin:20260321T100000
DTEND;TZID=Europe/Berlin:20260321T120000
DTSTAMP:20260425T060852
CREATED:20241017T081801Z
LAST-MODIFIED:20260422T085934Z
UID:14716-1774087200-1774094400@www.kontaktstelle-shg.de
SUMMARY:Treffen SHG Dystonie
DESCRIPTION:Neue Gesichter sind bei uns jederzeit herzlich willkommen! Wenn du Interesse hast\, an unserem Selbsthilfegruppetreffen teilzunehmen\, wende dich bitte vorab kurz an die örtliche Selbsthilfekontaktstelle. Dort erhältst du alle Informationen zum Ablauf und den nächsten Terminen. Wir freuen uns darauf\, dich kennenzulernen! \nWarum der Umweg über die Kontaktstelle? \nDie Selbsthilfekontaktstellen dienen als zentrale Beratungsstellen und Brücke zwischen Interessierten und den Gruppen. Dies hat für alle Beteiligten Vorteile: \nSchutz des Raums: Es wird sichergestellt\, dass die Gruppe für die neuen Teilnehmer passt. \nInformation: Interessierte erhalten vorab eine erste Beratung und alle notwendigen Details zum Treffpunkt.
URL:https://www.kontaktstelle-shg.de/veranstaltung/treffen-shg-dystonie-7/
LOCATION:Paritätische Selbsthilfekontaktstelle Halle-Saalekreis\, Merseburger Straße 246\, Halle\, 06130\, Deutschland
END:VEVENT
BEGIN:VEVENT
DTSTART;TZID=Europe/Berlin:20260321T140000
DTEND;TZID=Europe/Berlin:20260321T160000
DTSTAMP:20260425T060852
CREATED:20260205T131917Z
LAST-MODIFIED:20260325T110433Z
UID:15810-1774101600-1774108800@www.kontaktstelle-shg.de
SUMMARY:Bowling-Cup der Selbsthilfe
DESCRIPTION:Liebe Selbsthilfe-Interessierte\, \nwir freuen uns sehr\, euch zum Selbsthilfe-Bowling Cup der Jungen Selbsthilfe einzuladen! Nach einer langen Pause ist es endlich wieder soweit – der Bowling-Cup geht in die nächste Runde! \nOrt: BowlingStar Halle\, Delitzscher Str. 63\, 06112 Halle (Saale)\nKosten: Eine TN-Gebühr pro Person in Höhe von 5 € wird am Veranstaltungstag eingesammelt \nBitte per E-Mail an jjohn@paritaet-lsa.de anmelden.
URL:https://www.kontaktstelle-shg.de/veranstaltung/bowling-cup-der-selbsthilfe/
ATTACH;FMTTYPE=image/jpeg:https://www.kontaktstelle-shg.de/wp-content/uploads/istockphoto-1370547889-612x612-1.jpg
END:VEVENT
END:VCALENDAR